BEGIN:VCALENDAR
VERSION:2.0
PRODID:-//wp-events-plugin.com//7.2.3.1//EN
TZID:Europe/Berlin
X-WR-TIMEZONE:Europe/Berlin
BEGIN:VEVENT
UID:0-165@spd-neukoelln.de
DTSTART;TZID=Europe/Berlin:20230330T183000
DTEND;TZID=Europe/Berlin:20230330T200000
DTSTAMP:20221228T101603Z
URL:https://spd-neukoelln.de/termin/afa-neukoelln-mitgliedersitzung-21/
SUMMARY:AfA-Neukölln - Mitgliedersitzung
DESCRIPTION:\nUnser heutiger Themenschwerpunkt:&nbsp\;Steht zum jetzigen Ze
 itpunkt noch nicht fest.\n\n\n\nNachfragen zur AG-Mitgliedersitzung werden
  an Interessierte gern ausgegeben.&nbsp\;Bitte kontaktierten Sie dazu gern
 :&nbsp\;Thorsten.Koch@spd-neukoelln.de\n
CATEGORIES:Abteilungsversammlung,AfA-Neukölln
LOCATION:Casa ADELIO\, Lipschitzallee 70\, Berlin\, 12353\, Deutschland
X-APPLE-STRUCTURED-LOCATION;VALUE=URI;X-ADDRESS=Lipschitzallee 70\, Berlin\
 , 12353\, Deutschland;X-APPLE-RADIUS=100;X-TITLE=Casa ADELIO:geo:0,0
END:VEVENT
BEGIN:VTIMEZONE
TZID:Europe/Berlin
X-LIC-LOCATION:Europe/Berlin
BEGIN:DAYLIGHT
DTSTART:20230326T030000
TZOFFSETFROM:+0100
TZOFFSETTO:+0200
TZNAME:CEST
END:DAYLIGHT
END:VTIMEZONE
END:VCALENDAR